BEGIN:VCALENDAR
VERSION:2.0
BEGIN:VEVENT
UID:F6B08130-E875-463E-B442-F2BFBAAD014D
DTSTART:20240908T100000Z
DTEND:20240908T110000Z
SUMMARY:MADabolic Fitness Pop-Up at Waterproof
DESCRIPTION:Join Waterproof for the MADabolic Fitness Pop Up\, 19 floors up
 ! MADabolic is the industry-leading strength and conditioning franchise. I
 t’s for the ambitious\, the determined\, the high achiever\, and those who
  want to unlock their confidence. Each 50-minute workout is designed to ch
 allenge you\, change you\, and deliver the results you’ve been looking for
 .\nWaterproof\n1914 Commerce St.\,\nDallas\, TX 75201 United States\n
LOCATION:1914 Commerce St.\,\, Dallas\, TX 75201
URL:http://prestonhollow.bubblelife.com/community/preston_hollow_calendar/l
 ibrary/3562662/key/3511827173/MADabolic_Fitness_Pop-Up_at_Waterproof
CREATED:20240904T144226Z
LAST-MODIFIED:20240904T144226Z
DTSTAMP:20260423T044838Z
RRULE:FREQ=WEEKLY;UNTIL=20240915T000000Z;WKST=SU;BYDAY=SU
CLASS:PUBLIC
STATUS:CONFIRMED
TRANSP:TRANSPARENT
SEQUENCE:1
END:VEVENT
END:VCALENDAR
